BEGIN:VCALENDAR
VERSION:2.0
PRODID:-//My Key West Portal is the Social Calendar for the Florida Keys and Key West - ECPv6.15.11//NONSGML v1.0//EN
CALSCALE:GREGORIAN
METHOD:PUBLISH
X-WR-CALNAME:My Key West Portal is the Social Calendar for the Florida Keys and Key West
X-ORIGINAL-URL:https://mykeywestportal.com
X-WR-CALDESC:Events for My Key West Portal is the Social Calendar for the Florida Keys and Key West
REFRESH-INTERVAL;VALUE=DURATION:PT1H
X-Robots-Tag:noindex
X-PUBLISHED-TTL:PT1H
BEGIN:VTIMEZONE
TZID:UTC
BEGIN:STANDARD
TZOFFSETFROM:+0000
TZOFFSETTO:+0000
TZNAME:UTC
DTSTART:20170101T000000
END:STANDARD
END:VTIMEZONE
BEGIN:VEVENT
DTSTART;TZID=UTC:20180106T080000
DTEND;TZID=UTC:20180106T120000
DTSTAMP:20260423T221621
CREATED:20180104T213958Z
LAST-MODIFIED:20220621T013558Z
UID:870-1515225600-1515240000@mykeywestportal.com
SUMMARY:1st Saturday of the Month Hazardous Waste Drop Off
DESCRIPTION:This Household Hazardous Waste and Electronics Drop-off Day provides a safe and environmentally sound way to get rid of hard-to-dispose-of items. \nImportant Musts: \n  \n1. City of Key West Residents Only \n2. No Businesses \n  \n  \n  \n\nAccepting: Household Chemicals and Electronics\nGasoline (up to 5 gallons in a leakproof container)\nPaints\nStains\nPreservatives\nPesticides\nFertilizers\nRoofing Compounds\nWaste oil and Cooking oil\nResins and Solvents\nAdhesives and Caulks\nCorrosives and Acids\nCleaning Products\nAutomotive Fluids\nElectronics are also be accepted: microwaves\, TVs\, computers\, game systems\, speakers\, telephones\, circuit boards\, etc.\n\nFor more information contact the City of Key West: at 305-809-3776\, or Waste Management: at 305-296-8297. \n \n  \n  \n 
URL:https://mykeywestportal.com/event/1st-saturday-of-the-month-hazardous-waste-drop-off/
LOCATION:Indigenous Park\, 1801 White Street\, Key West\, FL\, 33040\, United States
CATEGORIES:Community
ATTACH;FMTTYPE=image/jpeg:https://mykeywestportal.com/wp-content/uploads/2018/01/MyKeyWestPortal-Hazardous-Waste-Drop-Off-Waste-Management-Key-West.jpg
END:VEVENT
BEGIN:VEVENT
DTSTART;TZID=UTC:20180303T090000
DTEND;TZID=UTC:20180303T120000
DTSTAMP:20260423T221621
CREATED:20180303T070108Z
LAST-MODIFIED:20180528T180119Z
UID:1905-1520067600-1520078400@mykeywestportal.com
SUMMARY:Home Depot Day
DESCRIPTION:Every 1st Saturday is "Home Depot Day" for kids in Key West.  I'm not sure if they do this in every Home Depot store all over the country\, but it's a big hit Key West. \nAt this monthly event - you'll find dozens of busy children:         -\n\n\nhammering\,\n\n\nbuilding\, and\n\n\npainting\n\n\nHome Depot provides tools\, and kits (a different project kit each month).  While supplies last kid work aprons are provided that children reuse\, and at future visits.  Souvenir project pins can be collected. \nCollecting pins on aprons reminds me of Hard Rock suspenders full of collector pins from various Hard Rocks around the world. \nThank you Home Depot for the many years of Saturday fun!\n \n  \n  \n  \n  \n  \n  \nResources: \nHome Depot Workshops in Key West (Big and Little Kids) \nWant to share your Home Depot Day photo on MyKeyWestPortal.com?   \nE-mail your photo and photo details to:  Awesome@SocialMediaG.com  with Subject line: My  Home Depot Workshop Photo  \n 
URL:https://mykeywestportal.com/event/home-depo-day/
LOCATION:Home Depo\, 2811 N Roosevelt Boulevard\, Key West\, FL\, 33040\, United States
ATTACH;FMTTYPE=image/jpeg:https://mykeywestportal.com/wp-content/uploads/2018/03/Home_Depo_Key_West_First_Saturday_MyKeyWestPortal_2.jpg
END:VEVENT
BEGIN:VEVENT
DTSTART;TZID=UTC:20180505T090000
DTEND;TZID=UTC:20180505T170000
DTSTAMP:20260423T221621
CREATED:20180430T215321Z
LAST-MODIFIED:20180430T215321Z
UID:2485-1525510800-1525539600@mykeywestportal.com
SUMMARY:Pop-Up ZEN Jewelry Trunk Show
DESCRIPTION:Come see the latest pieces in the private ZEN Collection! \nJewelry made out of wonderful elements such as mother of pearl\, abalone\, pearls\, conch shell\, and herkimer diamonds\, arrowheads\, and delicate metals.
URL:https://mykeywestportal.com/event/pop-up-zen-jewelry-trunk-show/
LOCATION:The Green Pineapple\, 1130 Duval St\, Key West\, FL\, 33040\, United States
ATTACH;FMTTYPE=image/jpeg:https://mykeywestportal.com/wp-content/uploads/2018/04/zen_pop_up_show_key_west.jpg
END:VEVENT
BEGIN:VEVENT
DTSTART;TZID=UTC:20180505T100000
DTEND;TZID=UTC:20180505T234500
DTSTAMP:20260423T221621
CREATED:20180430T213634Z
LAST-MODIFIED:20180430T213634Z
UID:2480-1525514400-1525563900@mykeywestportal.com
SUMMARY:Cinco De Mayo - Hard Rock Cafe
DESCRIPTION:Celebrate Cinco De Mayo at the Hard Rock Cafe!
URL:https://mykeywestportal.com/event/cinco-de-mayo-hard-rock-cafe/
LOCATION:Hard Rock Cafe\, 313 Duval Street\, Key West\, FL\, 33040\, United States
ATTACH;FMTTYPE=image/jpeg:https://mykeywestportal.com/wp-content/uploads/2018/04/cinco_de_mayo_key_west_florida_2018.jpg
END:VEVENT
BEGIN:VEVENT
DTSTART;TZID=UTC:20180505T110000
DTEND;TZID=UTC:20180505T150000
DTSTAMP:20260423T221621
CREATED:20180423T192624Z
LAST-MODIFIED:20180423T192624Z
UID:2437-1525518000-1525532400@mykeywestportal.com
SUMMARY:Cinco De Mayo Celebration
DESCRIPTION:$6 Margaritas!!\nCome out and join others at Key West harbour in celebrating Cinco De Mayo! \nCheck out the menu for food and pricing at the link provided below. \nReserve your table by calling 305-292-3121 ext. 3 \n 
URL:https://mykeywestportal.com/event/cinco-de-mayo-celebration/
LOCATION:Key West Harbour\, 600 Peninsular Avenue\, Key West\, FL\, 33040\, United States
ATTACH;FMTTYPE=image/jpeg:https://mykeywestportal.com/wp-content/uploads/2018/04/cinco_de_mayo_may_event_key_west_harbour.jpg
END:VEVENT
BEGIN:VEVENT
DTSTART;TZID=UTC:20180505T130000
DTEND;TZID=UTC:20180505T150000
DTSTAMP:20260423T221621
CREATED:20180430T210947Z
LAST-MODIFIED:20180430T210947Z
UID:2476-1525525200-1525532400@mykeywestportal.com
SUMMARY:Tacos and Tequila
DESCRIPTION:Day long taco special and tequila sampling! \n 
URL:https://mykeywestportal.com/event/tacos-and-tequila/
LOCATION:24 North Hotel\, 3820 N Roosevelt\, Key West\, FL\, 33040\, United States
ATTACH;FMTTYPE=image/jpeg:https://mykeywestportal.com/wp-content/uploads/2018/04/tacos_and_tequila_fairfield_keys_collection_key_west.jpg
END:VEVENT
BEGIN:VEVENT
DTSTART;TZID=UTC:20180505T170000
DTEND;TZID=UTC:20180505T190000
DTSTAMP:20260423T221621
CREATED:20180326T184210Z
LAST-MODIFIED:20180402T175650Z
UID:2197-1525539600-1525546800@mykeywestportal.com
SUMMARY:Papio Kinetic Sculpture Parade
DESCRIPTION:Inspired by and named for the late Keys artist Stanley Papio\, a humorous rebel metal-artist who explored the value of recycled materials long before it was hip to be rusty\, a full weekend of kinetic revelry kicks off on May 4 and runs through May 6\, with the parade itself launching from the Custom House Museum\, Saturday\, May 5 at 5:00pm\, followed by a post-parade party and concert\, complete with cash awards for the best kinetic sculpture floats and art bikes.  Contact Adele Williams for registration.
URL:https://mykeywestportal.com/event/papio-kinetic-sculpture-parade/
LOCATION:The Custom House\, 281 Front Street\, Key West\, FL\, 33040\, United States
ATTACH;FMTTYPE=image/jpeg:https://mykeywestportal.com/wp-content/uploads/2018/03/Papio_Kinetic_Scultpure_Parade_2018_Key_West.jpg
ORGANIZER;CN="Key West Art and Historical Society":MAILTO:awilliams@kwahs.org
END:VEVENT
BEGIN:VEVENT
DTSTART;TZID=UTC:20180505T180000
DTEND;TZID=UTC:20180505T193000
DTSTAMP:20260423T221621
CREATED:20180326T185221Z
LAST-MODIFIED:20180402T175641Z
UID:2205-1525543200-1525548600@mykeywestportal.com
SUMMARY:Poi Dog Pondering Concert
DESCRIPTION:Following the Papio Kinetic Parade\, Poi Dog Pondering takes the stage at Truman Waterfront Park Amphitheater. \nPoi dog pondering keeps thriving because their ethic has always been about following their musical heart. Their steadfast independence has allowed them to perennially bloom. Multi Racial\, Omni sexual\, and unafraid to be themselves\, they prowl the musical landscape with a hungry belly. They seem to live in a frame of mind more akin to the 30's and 40's Bohemians.\nKnown as "The little big band with the strong back and supple / stubborn heart"\, PDP has been following it's intuition for 25 years now. From bohemian street buskers to impossible to market major label sacrificial lambs... Poi dog pondering have ripened into staunchly independent musical voyagers. They have let every sound that excited them flow through their music and flood it with ever changing colors; Rock and soul. Orchestral\, acoustic and electronic textures. Americana\, rock band disco and international musics. All threaded along the way with lyrics that embrace the beauty and pain that life can bring. \n 
URL:https://mykeywestportal.com/event/poi-dog-pondering-concert/
LOCATION:Truman Waterfront Park Amphitheater\, 21 Quay Rd\, Key West\, FL\, 33040\, United States
ATTACH;FMTTYPE=image/jpeg:https://mykeywestportal.com/wp-content/uploads/2018/03/Poi_Dog_Pondering_Concert_Truman_Waterfront_Amphitheater_2018_Papio.jpg
ORGANIZER;CN="Key West Art and Historical Society":MAILTO:awilliams@kwahs.org
END:VEVENT
END:VCALENDAR