BEGIN:VCALENDAR
VERSION:2.0
PRODID:-//My Key West Portal is the Social Calendar for the Florida Keys and Key West - ECPv6.15.11//NONSGML v1.0//EN
CALSCALE:GREGORIAN
METHOD:PUBLISH
X-ORIGINAL-URL:https://mykeywestportal.com
X-WR-CALDESC:Events for My Key West Portal is the Social Calendar for the Florida Keys and Key West
REFRESH-INTERVAL;VALUE=DURATION:PT1H
X-Robots-Tag:noindex
X-PUBLISHED-TTL:PT1H
BEGIN:VTIMEZONE
TZID:UTC
BEGIN:STANDARD
TZOFFSETFROM:+0000
TZOFFSETTO:+0000
TZNAME:UTC
DTSTART:20170101T000000
END:STANDARD
END:VTIMEZONE
BEGIN:VEVENT
DTSTART;TZID=UTC:20180504T190000
DTEND;TZID=UTC:20180504T210000
DTSTAMP:20260423T221801
CREATED:20180423T193150Z
LAST-MODIFIED:20180423T193150Z
UID:2440-1525460400-1525467600@mykeywestportal.com
SUMMARY:Bayview Park Movie Series: Spiderman Homecoming
DESCRIPTION:Free Outdoor Movie!\navailable for purchase: \n\npopcorn\nfood\ndrinks\n\nLow chairs and blankets welcome. \nPets are also invited!
URL:https://mykeywestportal.com/event/bayview-park-movie-series-spiderman-homecoming/
LOCATION:Bayview Park\, Truman Ave\, and Eisenhower Dr\, Key West\, FL\, 33040\, United States
ATTACH;FMTTYPE=image/jpeg:https://mykeywestportal.com/wp-content/uploads/2018/04/Spiderman_Bayview_park_movie_series_may.jpg
END:VEVENT
END:VCALENDAR