BEGIN:VCALENDAR
VERSION:2.0
PRODID:-//My Key West Portal is the Social Calendar for the Florida Keys and Key West - ECPv6.15.11//NONSGML v1.0//EN
CALSCALE:GREGORIAN
METHOD:PUBLISH
X-ORIGINAL-URL:https://mykeywestportal.com
X-WR-CALDESC:Events for My Key West Portal is the Social Calendar for the Florida Keys and Key West
REFRESH-INTERVAL;VALUE=DURATION:PT1H
X-Robots-Tag:noindex
X-PUBLISHED-TTL:PT1H
BEGIN:VTIMEZONE
TZID:UTC
BEGIN:STANDARD
TZOFFSETFROM:+0000
TZOFFSETTO:+0000
TZNAME:UTC
DTSTART:20170101T000000
END:STANDARD
END:VTIMEZONE
BEGIN:VEVENT
DTSTART;TZID=UTC:20180428T110000
DTEND;TZID=UTC:20180428T150000
DTSTAMP:20260423T221802
CREATED:20180423T183324Z
LAST-MODIFIED:20180423T183324Z
UID:2424-1524913200-1524927600@mykeywestportal.com
SUMMARY:Conch Crawl\, Rum Salute\, Bar & Distillery Stroll - CRIC
DESCRIPTION:Bar and Distillery Stroll!!\nThis stroll includes: \n\nKey West Rum Distillery\nThe Green Room\nTiki House\nSmokin' Tuna\nTBD Bar\nMary Ellen's\nBourbon Street Pub\n801 Bourbon Bar\n\n*Check in is at 10 am until 1 pm in the Key West Legal Rum Distillery tasting room!\n**Limited space available - RESERVE YOUR SPOT \n***RSVP to info@conchrepublicdayskeywest.com OR visit a merch booth at almost every CRIC event
URL:https://mykeywestportal.com/event/conch-crawl-rum-salute-bar-distillery-stroll-cric/
LOCATION:Key West Legal Rum Distillery\, Simonton Street\, Key West\, FL\, 33040\, United States
ATTACH;FMTTYPE=image/png:https://mykeywestportal.com/wp-content/uploads/2018/03/Conch_Republic_Independence_Day_Celebration_2018.png
END:VEVENT
BEGIN:VEVENT
DTSTART;TZID=UTC:20180428T150000
DTEND;TZID=UTC:20180428T200000
DTSTAMP:20260423T221802
CREATED:20180423T184245Z
LAST-MODIFIED:20180423T184245Z
UID:2427-1524927600-1524945600@mykeywestportal.com
SUMMARY:Freshwater Conch Gala and Celebration - CRIC
DESCRIPTION:Become a true freshwater conch!!\nEligibility Requirements: \n\nHumans - lived here for 7 years\nDogs - lived here for 1 year (7 yr equivalent in dog years!)\n\nCome receive a certificate proclaiming your official Conch status! \n$19 for humans & $10 for pets\, includes a celebratory glass of bubbly and an opportunity to share what brought you ehre \n*all proceeds go to KWHS Band's Uniform Fund \n 
URL:https://mykeywestportal.com/event/freshwater-conch-gala-and-celebration-cric/
LOCATION:Aqua Nightclub\, 711 Duval Street\, Key West\, FL\, 33040\, United States
ATTACH;FMTTYPE=image/png:https://mykeywestportal.com/wp-content/uploads/2018/03/Conch_Republic_Independence_Day_Celebration_2018.png
END:VEVENT
BEGIN:VEVENT
DTSTART;TZID=UTC:20180428T183000
DTEND;TZID=UTC:20180428T203000
DTSTAMP:20260423T221802
CREATED:20180416T191422Z
LAST-MODIFIED:20180416T191422Z
UID:2390-1524940200-1524947400@mykeywestportal.com
SUMMARY:Tall Ship Aboard CR Flagship WOLF - CRIC
DESCRIPTION:Come relive the glorious age of sail and seafaring with Conch Republic Supreme Commander & First Sea Lord Admiral\, Finbar Gittleman. \n\nBoarding is 20 minutes prior to departure\nBYOB\nTickets can be purchased by emailing SailAway@SchoonerWOLF.com or call 305-296-9694
URL:https://mykeywestportal.com/event/tall-ship-aboard-cr-flagship-wolf-cric-4/
LOCATION:Historic Seaport and Waterfront\, Key West\, FL\, 33040\, United States
ATTACH;FMTTYPE=image/png:https://mykeywestportal.com/wp-content/uploads/2018/03/Conch_Republic_Independence_Day_Celebration_2018.png
END:VEVENT
BEGIN:VEVENT
DTSTART;TZID=UTC:20180428T190000
DTEND;TZID=UTC:20180428T190000
DTSTAMP:20260423T221802
CREATED:20180423T185037Z
LAST-MODIFIED:20180423T185037Z
UID:2431-1524942000-1524942000@mykeywestportal.com
SUMMARY:Pirates' Ball and Costume Contest - CRIC
DESCRIPTION:A night of "unscripted and entertaining audience participation" with fellow pirates!\nEvening festivities include: \n\nPiratical Costume Competition\n\nBest Buccaneer\nBest Wench\nBest Bustier\nCut Throat Surprise\n\n\n7 pm - midnight: Happy Dog Band - Woodstock style music like the Grateful Dead\, The Beatles\, and Crosby\, Stills and Nash
URL:https://mykeywestportal.com/event/pirates-ball-and-costume-contest-cric/
LOCATION:The Schooner Warf Bar\, 202 William St\, Key West\, FL\, 33040\, United States
ATTACH;FMTTYPE=image/png:https://mykeywestportal.com/wp-content/uploads/2018/03/Conch_Republic_Independence_Day_Celebration_2018.png
END:VEVENT
END:VCALENDAR