BEGIN:VCALENDAR
VERSION:2.0
PRODID:-//My Key West Portal is the Social Calendar for the Florida Keys and Key West - ECPv6.15.11//NONSGML v1.0//EN
CALSCALE:GREGORIAN
METHOD:PUBLISH
X-ORIGINAL-URL:https://mykeywestportal.com
X-WR-CALDESC:Events for My Key West Portal is the Social Calendar for the Florida Keys and Key West
REFRESH-INTERVAL;VALUE=DURATION:PT1H
X-Robots-Tag:noindex
X-PUBLISHED-TTL:PT1H
BEGIN:VTIMEZONE
TZID:UTC
BEGIN:STANDARD
TZOFFSETFROM:+0000
TZOFFSETTO:+0000
TZNAME:UTC
DTSTART:20170101T000000
END:STANDARD
END:VTIMEZONE
BEGIN:VEVENT
DTSTART;TZID=UTC:20180104T090000
DTEND;TZID=UTC:20180104T140000
DTSTAMP:20260423T221801
CREATED:20180104T031906Z
LAST-MODIFIED:20180104T032755Z
UID:724-1515056400-1515074400@mykeywestportal.com
SUMMARY:Green Market
DESCRIPTION:Every Thursday  find an eclectic array of vendors at Key West Weekly Green Market at Bayview Park.\nLife can be very simple shopping for pre-made meals\, fresh produce\, delicious cheeses\, beautiful orchids\, some health and beauty needs at this small market. \nPlanning a party this season\, or while you’re in town with friends and family?  Why not have a Paella Party?  They’re serving Paella at the Green Market – they cater as well. \n        \n 
URL:https://mykeywestportal.com/event/green-market/
LOCATION:Bayview Park\, Truman Ave\, and Eisenhower Dr\, Key West\, FL\, 33040\, United States
ATTACH;FMTTYPE=image/jpeg:https://mykeywestportal.com/wp-content/uploads/2018/01/Mediterranean_Key_West_GreenMarket__MyKeyWestPortal.com_.jpg
END:VEVENT
BEGIN:VEVENT
DTSTART;TZID=UTC:20180104T100000
DTEND;TZID=UTC:20180104T113000
DTSTAMP:20260423T221801
CREATED:20180104T224754Z
LAST-MODIFIED:20180104T225036Z
UID:923-1515060000-1515065400@mykeywestportal.com
SUMMARY:Fort Adventures Parent and Me Class
DESCRIPTION:Every Tuesday and Thursday morning this fun and educational class will focus on a specific theme that includes art\, science\, math\, and building. After a playful group circle time that promotes creativity\, sensory exploration and problem solving\, Ms. Elizabeth will fill your morning with engaging activities. Enjoy the Imagination Playground\, water play and story time in the spectacular setting of the Martello tower\, one of six in the country. \nClasses are Free to Key West Art and Historical Society Members.
URL:https://mykeywestportal.com/event/fort-adventures-parent-and-me-class/
LOCATION:East Martello Tower\, 3501 S Roosevelt Blvd\, Key West\, FL\, 33040\, United States
ATTACH;FMTTYPE=image/jpeg:https://mykeywestportal.com/wp-content/uploads/2018/01/KWAHS_fort_martello_kids.jpg
ORGANIZER;CN="Key West Art and Historical Society":MAILTO:awilliams@kwahs.org
END:VEVENT
BEGIN:VEVENT
DTSTART;TZID=UTC:20180426T133000
DTEND;TZID=UTC:20180426T153000
DTSTAMP:20260423T221801
CREATED:20180416T191239Z
LAST-MODIFIED:20180416T191239Z
UID:2388-1524749400-1524756600@mykeywestportal.com
SUMMARY:Tall Ship Aboard CR Flagship WOLF - CRIC
DESCRIPTION:Come relive the glorious age of sail and seafaring with Conch Republic Supreme Commander & First Sea Lord Admiral\, Finbar Gittleman. \n\nBoarding is 20 minutes prior to departure\nBYOB\nTickets can be purchased by emailing SailAway@SchoonerWOLF.com or call 305-296-9694
URL:https://mykeywestportal.com/event/tall-ship-aboard-cr-flagship-wolf-cric-3/
LOCATION:Historic Seaport and Waterfront\, Key West\, FL\, 33040\, United States
ATTACH;FMTTYPE=image/png:https://mykeywestportal.com/wp-content/uploads/2018/03/Conch_Republic_Independence_Day_Celebration_2018.png
END:VEVENT
BEGIN:VEVENT
DTSTART;TZID=UTC:20180426T180000
DTEND;TZID=UTC:20180426T193000
DTSTAMP:20260423T221801
CREATED:20180416T191706Z
LAST-MODIFIED:20180416T191706Z
UID:2392-1524765600-1524771000@mykeywestportal.com
SUMMARY:"World's Longest Parade" Pre-Party - CRIC
DESCRIPTION:Parade Pre-Party! \n\nConch Republic raising of the colors flag ceremony\nConch shell-horn salute\nCelebratory libations\nCash bar
URL:https://mykeywestportal.com/event/worlds-longest-parade-pre-party-cric/
LOCATION:Southernmost House\, 1400 Duval Street\, Key West\, FL\, 33040\, United States
ATTACH;FMTTYPE=image/png:https://mykeywestportal.com/wp-content/uploads/2018/03/Conch_Republic_Independence_Day_Celebration_2018.png
END:VEVENT
BEGIN:VEVENT
DTSTART;TZID=UTC:20180426T190000
DTEND;TZID=UTC:20180426T190000
DTSTAMP:20260423T221801
CREATED:20180416T192530Z
LAST-MODIFIED:20180416T192530Z
UID:2394-1524769200-1524769200@mykeywestportal.com
SUMMARY:The Duval Street Mile - CRIC
DESCRIPTION:Join fellow runners in sprinting the length of Duval Street! \npresented by The Key West Southernmost Runners \n*Register at the Southernmost House\, starting at 5pm
URL:https://mykeywestportal.com/event/the-duval-street-mile-cric/
LOCATION:Southernmost House\, 1400 Duval Street\, Key West\, FL\, 33040\, United States
ATTACH;FMTTYPE=image/png:https://mykeywestportal.com/wp-content/uploads/2018/03/Conch_Republic_Independence_Day_Celebration_2018.png
END:VEVENT
BEGIN:VEVENT
DTSTART;TZID=UTC:20180426T200000
DTEND;TZID=UTC:20180426T200000
DTSTAMP:20260423T221801
CREATED:20180416T193211Z
LAST-MODIFIED:20180416T193211Z
UID:2397-1524772800-1524772800@mykeywestportal.com
SUMMARY:Conch Republic "World's Longest Parade" - CRIC
DESCRIPTION:This parade runs fro the Atlantic Ocean to the Gulf of Mexico! \n\nvisit the website for route details\ncostumes strongly encouraged\n\n\n*Duval closed at 5pm between United and South Street \n**Participants line-up at 7:30
URL:https://mykeywestportal.com/event/conch-republic-worlds-longest-parade-cric/
LOCATION:Duval Street\, Key West\, FL\, 33040\, United States
ATTACH;FMTTYPE=image/png:https://mykeywestportal.com/wp-content/uploads/2018/03/Conch_Republic_Independence_Day_Celebration_2018.png
END:VEVENT
BEGIN:VEVENT
DTSTART;TZID=UTC:20180426T210000
DTEND;TZID=UTC:20180426T210000
DTSTAMP:20260423T221801
CREATED:20180416T193634Z
LAST-MODIFIED:20180416T193634Z
UID:2399-1524776400-1524776400@mykeywestportal.com
SUMMARY:"World's Longest Parade" After Party - CRIC
DESCRIPTION:Parade Award Ceremony!!\n\nAwards\n\nBest "conch-cept"\nMost original\nMost creative\n\n\nMangoes Band will be performing\nLive music until Midnight
URL:https://mykeywestportal.com/event/worlds-longest-parade-after-party-cric/
LOCATION:The Schooner Warf Bar\, 202 William St\, Key West\, FL\, 33040\, United States
ATTACH;FMTTYPE=image/png:https://mykeywestportal.com/wp-content/uploads/2018/03/Conch_Republic_Independence_Day_Celebration_2018.png
END:VEVENT
END:VCALENDAR