BEGIN:VCALENDAR
VERSION:2.0
PRODID:-//My Key West Portal is the Social Calendar for the Florida Keys and Key West - ECPv6.15.11//NONSGML v1.0//EN
CALSCALE:GREGORIAN
METHOD:PUBLISH
X-ORIGINAL-URL:https://mykeywestportal.com
X-WR-CALDESC:Events for My Key West Portal is the Social Calendar for the Florida Keys and Key West
REFRESH-INTERVAL;VALUE=DURATION:PT1H
X-Robots-Tag:noindex
X-PUBLISHED-TTL:PT1H
BEGIN:VTIMEZONE
TZID:UTC
BEGIN:STANDARD
TZOFFSETFROM:+0000
TZOFFSETTO:+0000
TZNAME:UTC
DTSTART:20170101T000000
END:STANDARD
END:VTIMEZONE
BEGIN:VEVENT
DTSTART;TZID=UTC:20180408T100000
DTEND;TZID=UTC:20180408T140000
DTSTAMP:20260423T221657
CREATED:20180326T195525Z
LAST-MODIFIED:20180402T175825Z
UID:2236-1523181600-1523196000@mykeywestportal.com
SUMMARY:Key West Artisan Market: Ocean Awareness Edition
DESCRIPTION:Eaton St. Local artisans include fresh produce\, culinary\, textile\, jewelry\, wood\, artists & crafters\, curiosities\, the Key West Writer’s Guild Local Author’s Nook\, live variety show\, beer\, wine and food. The focus will be on awareness of our delicate ocean and interpretation by local artists. \nGuests are encouraged to ride bikes or the bus which conveniently stops in front of the Restaurant Store. \nPlease BYOB (Bring your own bags). \n 
URL:https://mykeywestportal.com/event/key-west-artisan-market-ocean-awareness-edition/
LOCATION:Restaurant Store\, 1111 Eaton St.\, Key West\, FL\, 33040\, United States
ATTACH;FMTTYPE=image/jpeg:https://mykeywestportal.com/wp-content/uploads/2018/03/Key_West_Artisan_Market_2018_Ocean_Awareness_Edition.jpg
ORGANIZER;CN="Artisan Market - Sean Krikorian":MAILTO:sean@dailyplan-it.net
END:VEVENT
BEGIN:VEVENT
DTSTART;TZID=UTC:20180408T110000
DTEND;TZID=UTC:20180408T190000
DTSTAMP:20260423T221657
CREATED:20180326T201020Z
LAST-MODIFIED:20180402T175740Z
UID:2242-1523185200-1523214000@mykeywestportal.com
SUMMARY:Bay Jam 24
DESCRIPTION:This music and art festival features local and guest artists performing on the shored of Florida Bay at the ICE Amphitheater at Founder's Park\, MM 87 on US 1. Attendees can savor the sounds from 11 am - 8 pm from the hammock-like performance center set against the aqua waters of Florida Bay. \nPerformers Include: \nThe Usual Suspects \nPasta & Lower Mat Rats \nBill Todd Band \nThe Coconut Cowboys \nScott Youngberg \nFelix The Cat & BAGA Trucks \nDavid Feder \nMatt Phillips & The Back Pocket \nThe Lady "A" Blues Band
URL:https://mykeywestportal.com/event/bay-jam-24/
LOCATION:FL
ATTACH;FMTTYPE=image/jpeg:https://mykeywestportal.com/wp-content/uploads/2018/03/Bay_Jam_24_Islamorada_2018_ICE_Amphitheater.jpg
END:VEVENT
BEGIN:VEVENT
DTSTART;TZID=UTC:20180114T130000
DTEND;TZID=UTC:20180114T150000
DTSTAMP:20260423T221657
CREATED:20180111T200344Z
LAST-MODIFIED:20180111T200843Z
UID:1026-1515934800-1515942000@mykeywestportal.com
SUMMARY:Sheriff's Animal Farm
DESCRIPTION:A great place to visit\, observe animals\, and in some cases - touch them. \nHere is a list of some of the animals: \n\nLarge aviary\nReptile exhibit\nRabbit warren\nFarm animals\nMo the Sloth\nMiniature horses\nAngus the steer\nChickens\nPigs\nGoats\nRabbits\nKinkajous\nKelsey the Lemur\nAlpacas\nAlbino python\nPeacocks and many tropical birds\n85 pound African Spurred Tortoise\n\nResources: \nMonroe County Sheriff's Animal Farm \nContact:  Jeanne Selander \nEmail:  jselander@keysso.net \n  \n 
URL:https://mykeywestportal.com/event/sheriffs-animal-farm/
LOCATION:FL
ATTACH;FMTTYPE=image/jpeg:https://mykeywestportal.com/wp-content/uploads/2018/01/monroecounty_animalfarm_sloth.jpg
END:VEVENT
END:VCALENDAR