BEGIN:VCALENDAR
VERSION:2.0
PRODID:-//My Key West Portal is the Social Calendar for the Florida Keys and Key West - ECPv6.15.11//NONSGML v1.0//EN
CALSCALE:GREGORIAN
METHOD:PUBLISH
X-WR-CALNAME:My Key West Portal is the Social Calendar for the Florida Keys and Key West
X-ORIGINAL-URL:https://mykeywestportal.com
X-WR-CALDESC:Events for My Key West Portal is the Social Calendar for the Florida Keys and Key West
REFRESH-INTERVAL;VALUE=DURATION:PT1H
X-Robots-Tag:noindex
X-PUBLISHED-TTL:PT1H
BEGIN:VTIMEZONE
TZID:UTC
BEGIN:STANDARD
TZOFFSETFROM:+0000
TZOFFSETTO:+0000
TZNAME:UTC
DTSTART:20170101T000000
END:STANDARD
END:VTIMEZONE
BEGIN:VEVENT
DTSTART;TZID=UTC:20180312T080000
DTEND;TZID=UTC:20180315T180000
DTSTAMP:20260423T202702
CREATED:20180312T223528Z
LAST-MODIFIED:20180312T223528Z
UID:2150-1520841600-1521136800@mykeywestportal.com
SUMMARY:Permit Fishing Tournament
DESCRIPTION:March 12: 6 pm Rules and Regulations \nMarch 13-15: Events 8 am - 6 pm \n**Registration ended 10/31/2017**
URL:https://mykeywestportal.com/event/permit-fishing-tournament/
LOCATION:FL
END:VEVENT
END:VCALENDAR