BEGIN:VCALENDAR
VERSION:2.0
PRODID:-//My Key West Portal is the Social Calendar for the Florida Keys and Key West - ECPv6.15.11//NONSGML v1.0//EN
CALSCALE:GREGORIAN
METHOD:PUBLISH
X-WR-CALNAME:My Key West Portal is the Social Calendar for the Florida Keys and Key West
X-ORIGINAL-URL:https://mykeywestportal.com
X-WR-CALDESC:Events for My Key West Portal is the Social Calendar for the Florida Keys and Key West
REFRESH-INTERVAL;VALUE=DURATION:PT1H
X-Robots-Tag:noindex
X-PUBLISHED-TTL:PT1H
BEGIN:VTIMEZONE
TZID:UTC
BEGIN:STANDARD
TZOFFSETFROM:+0000
TZOFFSETTO:+0000
TZNAME:UTC
DTSTART:20170101T000000
END:STANDARD
END:VTIMEZONE
BEGIN:VEVENT
DTSTART;TZID=UTC:20180302T190000
DTEND;TZID=UTC:20180302T210000
DTSTAMP:20260423T184828
CREATED:20180117T201725Z
LAST-MODIFIED:20180117T201725Z
UID:1779-1520017200-1520024400@mykeywestportal.com
SUMMARY:Bayview Park Movie Series: Wonder Woman
DESCRIPTION:It's time for another FREE OUTDOOR MOVIE at Bayview Park starting just after dusk at 7pm. \nPopcorn provided by SOS Foundation\, food\, and drinks available for purchase. Low-lying chairs and blankets welcomed and this is a no smoking event. \nFriendly pets are invited\, too! \nhttp://www.kwoutdoormovies.com/
URL:https://mykeywestportal.com/event/bayview-park-movie-series-wonder-woman/
LOCATION:Bayview Park\, Truman Ave\, and Eisenhower Dr\, Key West\, FL\, 33040\, United States
ATTACH;FMTTYPE=image/jpeg:https://mykeywestportal.com/wp-content/uploads/2018/01/wonderwoman_bayviewpark_outdoormovie.jpg
END:VEVENT
END:VCALENDAR