BEGIN:VCALENDAR
VERSION:2.0
PRODID:-//My Key West Portal is the Social Calendar for the Florida Keys and Key West - ECPv6.15.11//NONSGML v1.0//EN
CALSCALE:GREGORIAN
METHOD:PUBLISH
X-WR-CALNAME:My Key West Portal is the Social Calendar for the Florida Keys and Key West
X-ORIGINAL-URL:https://mykeywestportal.com
X-WR-CALDESC:Events for My Key West Portal is the Social Calendar for the Florida Keys and Key West
REFRESH-INTERVAL;VALUE=DURATION:PT1H
X-Robots-Tag:noindex
X-PUBLISHED-TTL:PT1H
BEGIN:VTIMEZONE
TZID:UTC
BEGIN:STANDARD
TZOFFSETFROM:+0000
TZOFFSETTO:+0000
TZNAME:UTC
DTSTART:20170101T000000
END:STANDARD
END:VTIMEZONE
BEGIN:VEVENT
DTSTART;TZID=UTC:20180119T190000
DTEND;TZID=UTC:20180119T210000
DTSTAMP:20260423T170141
CREATED:20180103T195130Z
LAST-MODIFIED:20180103T195725Z
UID:673-1516388400-1516395600@mykeywestportal.com
SUMMARY:Bayview Park Movie Series: The Jungle Book
DESCRIPTION:The Jungle Book is a 2016 American fantasy adventure film.\nAfter a threat from the tiger Shere Khan forces him to flee the jungle\, an orphaned human-cub named Mowgli embarks on a journey of self discovery\, guided by his animal guardians of a Panther\, Bagheera\, and Free Spirited Bear\, Baloo.\n\nThis live action film also features the voices of:\n\n Bill Murray as the Free Spirited Bear\, Baloo\n Ben Kingsley as Bagherra; A most Noble Panther animal guardian\n Scarlett Johansson as Kaa\, the Hypnotic Python\n Christopher Walken as King Louie; an imperious Orangutan\n\n \n\nPopcorn provided by SOS foundation.\nFood and drinks available for purchase.\nLow-lying chairs and blankets welcomed at this no smoking event.\nFriendly pets are invited\, too!\n\n 
URL:https://mykeywestportal.com/event/bayview-park-movie-series-the-jungle-book/
LOCATION:Bayview Park\, Truman Ave\, and Eisenhower Dr\, Key West\, FL\, 33040\, United States
END:VEVENT
END:VCALENDAR