BEGIN:VCALENDAR
VERSION:2.0
PRODID:-//My Key West Portal is the Social Calendar for the Florida Keys and Key West - ECPv6.15.11//NONSGML v1.0//EN
CALSCALE:GREGORIAN
METHOD:PUBLISH
X-ORIGINAL-URL:https://mykeywestportal.com
X-WR-CALDESC:Events for My Key West Portal is the Social Calendar for the Florida Keys and Key West
REFRESH-INTERVAL;VALUE=DURATION:PT1H
X-Robots-Tag:noindex
X-PUBLISHED-TTL:PT1H
BEGIN:VTIMEZONE
TZID:UTC
BEGIN:STANDARD
TZOFFSETFROM:+0000
TZOFFSETTO:+0000
TZNAME:UTC
DTSTART:20160101T000000
END:STANDARD
END:VTIMEZONE
BEGIN:VEVENT
DTSTART;TZID=UTC:20171029T120000
DTEND;TZID=UTC:20171029T170000
DTSTAMP:20260423T221623
CREATED:20170731T202449Z
LAST-MODIFIED:20170731T202449Z
UID:190-1509278400-1509296400@mykeywestportal.com
SUMMARY:Children's Day
DESCRIPTION:A family event featuring food\, rides\, games\, arts and crafts and a costume contest for children located at Bayview Park. Truman Ave. and Eisenhower Dr.; Noon to 5 PM;
URL:https://mykeywestportal.com/event/childrens-day/
LOCATION:Bayview Park\, Truman Ave\, and Eisenhower Dr\, Key West\, FL\, 33040\, United States
END:VEVENT
END:VCALENDAR