BEGIN:VCALENDAR
VERSION:2.0
PRODID:-//My Key West Portal is the Social Calendar for the Florida Keys and Key West - ECPv6.15.11//NONSGML v1.0//EN
CALSCALE:GREGORIAN
METHOD:PUBLISH
X-ORIGINAL-URL:https://mykeywestportal.com
X-WR-CALDESC:Events for My Key West Portal is the Social Calendar for the Florida Keys and Key West
REFRESH-INTERVAL;VALUE=DURATION:PT1H
X-Robots-Tag:noindex
X-PUBLISHED-TTL:PT1H
BEGIN:VTIMEZONE
TZID:UTC
BEGIN:STANDARD
TZOFFSETFROM:+0000
TZOFFSETTO:+0000
TZNAME:UTC
DTSTART:20160101T000000
END:STANDARD
END:VTIMEZONE
BEGIN:VEVENT
DTSTART;TZID=UTC:20171025T130000
DTEND;TZID=UTC:20171025T160000
DTSTAMP:20260423T221700
CREATED:20170902T194951Z
LAST-MODIFIED:20170902T194951Z
UID:494-1508936400-1508947200@mykeywestportal.com
SUMMARY:ROCK AND ROLL REVITALIZING 1960’S POOL PARTY
DESCRIPTION:Let us take you back to a groovy time full of Tom Collins\, Pink Squirrels and Greyhounds; when the bikini became every woman’s new purchase\, mini-skirts crept into closets and good ol’ Rock and Roll was heard from every radio station and record player in the United States. Dress in your favorite vintage swimsuit\, psychedelic patterns and platform shoes and join us at the Marker Waterfront Resort for The Sixties Pool Party. Boogie down to live music your old man might not approve of\, sip on a few of our nifty drink specials and have a guaranteed far out time. Do you dig? Featuring Patrick and the Swayzees Live Poolside! The Marker Waterfront Resort\, 200 William Street. 305-501-5193. 1-4 PM.
URL:https://mykeywestportal.com/event/rock-and-roll-revitalizing-1960s-pool-party/
LOCATION:The Marker Waterfront Resort\, 200 William St\, Key West\, FL\, 33040\, United States
END:VEVENT
BEGIN:VEVENT
DTSTART;TZID=UTC:20171025T170000
DTEND;TZID=UTC:20171025T200000
DTSTAMP:20260423T221700
CREATED:20170902T200232Z
LAST-MODIFIED:20170902T200232Z
UID:503-1508950800-1508961600@mykeywestportal.com
SUMMARY:CHERAOKE
DESCRIPTION:Come celebrate the incomparable queen of basically everything\, CHER\, from 5-8pm! Come dressed as your favorite Cher from any of her famous decades. We'll have Cheraoke (Yes...Cher Karaoke hosted by Randy Roberts!). Themed cocktails\, Cher trivia and a Cher look-alike contest (with PRIZES). Don't miss it! Rum Row at The Gates Hotel\, 3824 N. Roosevelt Blvd. 305-320-0930. Free
URL:https://mykeywestportal.com/event/cheraoke/
LOCATION:The Gates Hotel\, 3824 N Roosevelt Blvd\, Key West\, FL\, 33040\, United States
END:VEVENT
BEGIN:VEVENT
DTSTART;TZID=UTC:20171025T173000
DTEND;TZID=UTC:20171025T200000
DTSTAMP:20260423T221700
CREATED:20170902T195930Z
LAST-MODIFIED:20170902T195930Z
UID:498-1508952600-1508961600@mykeywestportal.com
SUMMARY:The Pet Masquerade
DESCRIPTION:You will see a magic carousel of frisky pets and playful owners\, all delightfully disguised\, stroll\, dance and even skateboard across a stage in a fun frolic for fame and fortune! Think you and your furry\, feathered or slithery friend have the perfect outfit? 4 categories to enter-$25 each entry; benefits the Lower Keys Friends of Animals; Registration begins at 4 PM; Show starts at 5:30 PM; FREE to watch; VIP seating is available on the beach of the Casa Marina\, A Waldorf Astoria Resort\, 1500 Reynolds St. $25 VIP tickets are available at keystix.com For more information\, visit our Facebook Page or email petmasquerade@hotmail.com.
URL:https://mykeywestportal.com/event/the-pet-masquerade/
LOCATION:Casa Marina\, 1500 Reynolds St\, Key West\, FL\, 33040\, United States
END:VEVENT
BEGIN:VEVENT
DTSTART;TZID=UTC:20171025T190000
DTEND;TZID=UTC:20171025T210000
DTSTAMP:20260423T221700
CREATED:20170902T200446Z
LAST-MODIFIED:20170902T200446Z
UID:506-1508958000-1508965200@mykeywestportal.com
SUMMARY:the History of SEX!
DESCRIPTION:The History of Sex – as presented by Psychologist\, Sexologist and Sex Therapist Dr. Pamela Stephenson Connolly – is an illuminating journey through centuries of human eroticism. Key West is not the only society that openly and ritually celebrates sexual fun and fantasy – as exuberantly expressed in parades and parties during its annual Fantasy Fest. Different civilizations at different times in history have developed unique sexual rituals\, beliefs\, and more that in turn have influenced the personal eroticism of its citizens. Dr. Connolly will reveal fascinating facts about our ancestors’ sexual styles\, behaviors and beliefs. For adults over 21 only\, this thoroughly exciting lecture promotes a fun\, utterly frank and positive view of sex – and sheds light on some of the seemingly quirkiest aspects of human sexuality. But there is also an important message: In gaining insights and an educated perspective into the roles of religion\, families\, beliefs and mythologies regarding the way sexuality has been viewed and experienced through the ages\, one can better understand ones own sexual mysteries. Tropic Cinema\, 416 Eaton St. 877-761-3456. 5:30- 7 PM. For tickets go to eventbrite.com.
URL:https://mykeywestportal.com/event/the-history-of-sex/
LOCATION:Tropic Cinema\, 416 Eaton Street\, Key West\, FL\, 33040\, United States
END:VEVENT
BEGIN:VEVENT
DTSTART;TZID=UTC:20171025T190000
DTEND;TZID=UTC:20171025T233000
DTSTAMP:20260423T221700
CREATED:20170902T201204Z
LAST-MODIFIED:20170902T201204Z
UID:511-1508958000-1508974200@mykeywestportal.com
SUMMARY:Wharfstock
DESCRIPTION:Fall under the spell of Peace and Love Woodstock style. It’s tie-dye\, flower power\, and psychedelic colors hoo-doo style this year at the Schooner Wharf Bar. The Party starts at 7 PM. Cast your votes for the sexiest Hippie Chick & Grooviest Dude at 8:30 PM. For the adventurous\, the Body Painting Contest will mesmerize at 10 PM. Bring a friend to paint or be painted; paints and brushes provided with awards to follow! Enjoy live music by the Hippie Band\, cold drinks and great galley fare. Emceed by Magic Frank Everhart. Winners will receive cash prizes and gift certificates. 202 William St.; 305-292-3302; 7 PM; judging at 8:30 & 10 PM; No cover charge or entry fee.
URL:https://mykeywestportal.com/event/wharfstock/
LOCATION:The Schooner Warf Bar\, 202 William St\, Key West\, FL\, 33040\, United States
END:VEVENT
BEGIN:VEVENT
DTSTART;TZID=UTC:20171025T200000
DTEND;TZID=UTC:20171025T220000
DTSTAMP:20260423T221700
CREATED:20170902T200852Z
LAST-MODIFIED:20170902T200852Z
UID:508-1508961600-1508968800@mykeywestportal.com
SUMMARY:SMOKIN TUNA HOMEMADE BIKINI CONTEST
DESCRIPTION:The Smokin’ Tuna Saloon is proud to present the 25th Anniversary of the Original Key West Homemade Bikini Contest. Over $5\,000 in cash & prizes. Creativity and attention to detail are the key elements to winning the 1st prize of $2000\, Additional cash prizes for 2nd & 3rd place along with prizes totaling over $5\,000. Join the Backstage VIP section with an open bar\, light food and a contestant meet & greet. Hosted by the World Famous MC Mr. Bill Hoebee and his celebrity judges. For contest entry information contact the Smokin’ Tuna Saloon @ 305.517.6350. 4 Charles Street. Contest participation is $10. Doors open at 7 PM\, Event Starts @ 8pm. Free General Admission; Limited Backstage VIP Tickets available atsmokintunasaloon.ticketleap.com or 305.517.635.
URL:https://mykeywestportal.com/event/smokin-tuna-homemade-bikini-contest/
LOCATION:The Smokin' Tuna\, 4 Charles Street\, Key West\, FL\, 33040\, United States
END:VEVENT
BEGIN:VEVENT
DTSTART;TZID=UTC:20171025T200000
DTEND;TZID=UTC:20171025T233000
DTSTAMP:20260423T221700
CREATED:20170902T202030Z
LAST-MODIFIED:20170902T202030Z
UID:514-1508961600-1508974200@mykeywestportal.com
SUMMARY:LUCY'S BLUE PARTY
DESCRIPTION:Come and dance under the sea at Lucy’s Retired Surfers Bar’s BLUE PARTY! Key West’s newest bar and restaurant is going all out for a night of marine-themed fun featuring live music from Patrick and the Swayzees and then a late night DJ and a body painter! Sip on signature cocktails like Da Killer Whale and keep the party rockin’ with late night eats. Wonderful prizes will be raffled off to benefit Reef Relief. The party starts at 8 PM @ 320 Grinnell Street – wear your best BLUE inspired costume for a chance to win some great prizes! 305-922-2616
URL:https://mykeywestportal.com/event/lucys-blue-party/
LOCATION:Lucy's Retired Surfers Bar\, 221 Duval St\, Key West\, FL\, 33040\, United States
END:VEVENT
BEGIN:VEVENT
DTSTART;TZID=UTC:20171025T210000
DTEND;TZID=UTC:20171025T233000
DTSTAMP:20260423T221700
CREATED:20170902T202930Z
LAST-MODIFIED:20170902T202930Z
UID:518-1508965200-1508974200@mykeywestportal.com
SUMMARY:TEAM LINGERIE PILLOW FIGHT
DESCRIPTION:A first time event for Cowboy Bill's. 10 teams of 2 women will do their best to show you a very sexy pillow fight while 3 lucky judges score their performance. $1000.00 in cash prizes - 1st - $700.00; 2nd - $200.00; 3rd - $100.00 618 Duval Street 305-440-2605
URL:https://mykeywestportal.com/event/team-lingerie-pillow-fight/
LOCATION:Cowboy Bill's Bar\, 618 Duval St\, Key West\, FL\, 33040\, United States
END:VEVENT
BEGIN:VEVENT
DTSTART;TZID=UTC:20171025T210000
DTEND;TZID=UTC:20171025T233000
DTSTAMP:20260423T221700
CREATED:20170902T204010Z
LAST-MODIFIED:20170902T204010Z
UID:522-1508965200-1508974200@mykeywestportal.com
SUMMARY:FOGARTY'S RED PARTY
DESCRIPTION:Prepare to see RED! RED decorations\, RED lights and RED beach balls. As long as it's RED any costume will do! The DJ will keep you dancing\, so you won't want to miss this often imitated but never duplicated party with the zany\, off-beat COSTUME CONTEST. Why wait in line?! Pre-purchase tickets at Fogarty's. 227 Duval St. 305-294-7525. 9 PM; $.
URL:https://mykeywestportal.com/event/fogartys-red-party/
LOCATION:Fogarty's\, 227 Duval St\, Key West\, FL\, 33040\, United States
END:VEVENT
BEGIN:VEVENT
DTSTART;TZID=UTC:20171025T210000
DTEND;TZID=UTC:20171025T233000
DTSTAMP:20260423T221700
CREATED:20170905T195614Z
LAST-MODIFIED:20170905T195614Z
UID:531-1508965200-1508974200@mykeywestportal.com
SUMMARY:LUV2GLOW
DESCRIPTION:LUV 2 GLOW! Fantasy Fests Best and Longest Running Glow In The Dark Dance Party. 6 Years Running! House/Tech House & Techno feat. DJS JEVNE\, ATNARKO\, TOP JIMMY & HERB JAVIER • 21+ • $5 • 9PM - 4AM • New GlowinG VENUE - MARY ELLEN’S BAR • 420 APPLEROUTH LN
URL:https://mykeywestportal.com/event/luv2glow/
LOCATION:Mary Ellen's\, Applerouth Lane\, Key West\, FL\, 33040\, United States
END:VEVENT
BEGIN:VEVENT
DTSTART;TZID=UTC:20171025T220000
DTEND;TZID=UTC:20171025T233000
DTSTAMP:20260423T221700
CREATED:20170905T194942Z
LAST-MODIFIED:20170905T194942Z
UID:525-1508968800-1508974200@mykeywestportal.com
SUMMARY:ABC PARTY
DESCRIPTION:Hot adult film star Zuma the Puerto Rican Goddess\, and many more celebrity models invite you to enter the ABC (Anything But Clothes) Party. Enter the ABC costume contest and win $700 in cash and prizes. It's the most outrageous and creative contest on the planet! Join the adventurous and risqué for the party of a lifetime in a club setting located in the heart of world famous Duval Street featuring live guest DJs. Limited tickets are available to the public for this private star-studded red carpet celebrity extravaganza. Purchase tickets at keystix.com or call (305)304-1188. 221 Duval St\, 10PM.
URL:https://mykeywestportal.com/event/abc-party/
LOCATION:Senor Frogs\, 221 Duval st\, Key West\, FL\, 33040\, United States
END:VEVENT
BEGIN:VEVENT
DTSTART;TZID=UTC:20171025T220000
DTEND;TZID=UTC:20171025T233000
DTSTAMP:20260423T221700
CREATED:20170905T195231Z
LAST-MODIFIED:20170905T195231Z
UID:528-1508968800-1508974200@mykeywestportal.com
SUMMARY:SWING N' FREAK FEST
DESCRIPTION:Come meet\, greet\, swing and freak at the one and only Bare Assets adult night club. Bare Assets is the premier gentlemen’s club of Key West and your original risque party venue. Couples are encouraged\, singles are more than welcome. Get ready to fulfill all your erotic desires with 30 of our very beautiful Bare Assets ladies. Come play in our X-rated playground for a chance to win $1\,000.00 cash prize. Join us as we host our famous stripper lesbian Olympics\, an exotic pole dancing contest and much more. Limited VIP and table seating available. Get your tickets today at keystix.com. If you have any questions email assetsbare@aol.com. Swinging when sharing is both caring and daring! Bare Assets\, 1029 Truman Ave.\, 10 PM.
URL:https://mykeywestportal.com/event/swing-n-freak-fest/
LOCATION:Bare Assets\, 1029 Truman Ave\, Key West\, FL\, 33040\, United States
END:VEVENT
BEGIN:VEVENT
DTSTART;TZID=UTC:20171025T220000
DTEND;TZID=UTC:20171025T233000
DTSTAMP:20260423T221700
CREATED:20170905T195837Z
LAST-MODIFIED:20170905T195913Z
UID:534-1508968800-1508974200@mykeywestportal.com
SUMMARY:DUNGEON of DARK SECRETS
DESCRIPTION:Purchase your advanced tickets online at KeysTix.com keystix.com. Tickets will also be available the day of the event at the door. VIP Tickets are guaranteed to sell out so please order them soon. For more information please contact Brad (305) 203-3461.
URL:https://mykeywestportal.com/event/dungeon-of-dark-secrets/
LOCATION:FL
END:VEVENT
END:VCALENDAR