BEGIN:VCALENDAR
VERSION:2.0
PRODID:-//My Key West Portal is the Social Calendar for the Florida Keys and Key West - ECPv6.15.11//NONSGML v1.0//EN
CALSCALE:GREGORIAN
METHOD:PUBLISH
X-ORIGINAL-URL:https://mykeywestportal.com
X-WR-CALDESC:Events for My Key West Portal is the Social Calendar for the Florida Keys and Key West
REFRESH-INTERVAL;VALUE=DURATION:PT1H
X-Robots-Tag:noindex
X-PUBLISHED-TTL:PT1H
BEGIN:VTIMEZONE
TZID:UTC
BEGIN:STANDARD
TZOFFSETFROM:+0000
TZOFFSETTO:+0000
TZNAME:UTC
DTSTART:20160101T000000
END:STANDARD
END:VTIMEZONE
BEGIN:VEVENT
DTSTART;VALUE=DATE:20171018
DTEND;VALUE=DATE:20171023
DTSTAMP:20260423T221623
CREATED:20170822T185559Z
LAST-MODIFIED:20170822T185559Z
UID:388-1508299200-1508716799@mykeywestportal.com
SUMMARY:Fifth Annual Humphrey Bogart Film Festival
DESCRIPTION:The Humphrey Bogart Film Festival is to screen a rotating selection of Bogie classics and a group of movies celebrating the life and films of the man the American Film Institute named “America’s greatest male screen legend.” The festival\, hosted by the screen legend’s son\, Stephen Bogart\, is the only event of its kind\, and is backed by the Bogart Estate. The 2017 theme is scheduled to celebrate the 75th anniversary of ‘Casablanca.’ \n \nThere are only two event locations this year. Those locations are Tavernier Cinemas and the Playa Largo hotel. All movies are screened at Tavernier Cinemas. The ONLY exceptions are the three outdoor screenings and the Saturday night screening of Casablanca. Those four screenings take place at the Playa Largo hotel. All special events (presentations\, discussions\, cocktail parties\, contests\, brunch\, dinner\, outdoor screenings) take place at the Playa Largo hotel. Each cocktail party will feature our complimentary Bogart's gin and vodka.
URL:https://mykeywestportal.com/event/fifth-annual-humphrey-bogart-film-festival/
LOCATION:Tavernier Cinema\, 91298 Overseas Hwy\, Tavernier\, FL\, 33070\, United States
END:VEVENT
BEGIN:VEVENT
DTSTART;TZID=UTC:20171020T120000
DTEND;TZID=UTC:20171021T235900
DTSTAMP:20260423T221623
CREATED:20170822T193958Z
LAST-MODIFIED:20170822T194117Z
UID:398-1508500800-1508630340@mykeywestportal.com
SUMMARY:36th Annual Goombay Fest 2017
DESCRIPTION:This exuberant street party showcases island arts and crafts\, music and food in the heart of Key West’s historic Bahama Village neighborhood. The festival’s main entertainment stage is located at the corner of Petronia and Fort streets on Truman Annex\, and features nonstop musical entertainment ranging from gospel to reggae. This family friendly street party continues on Saturday! Noon to midnight; FREE
URL:https://mykeywestportal.com/event/36th-annual-goombay-fest-2017/
LOCATION:FL
END:VEVENT
BEGIN:VEVENT
DTSTART;TZID=UTC:20171020T180000
DTEND;TZID=UTC:20171020T220000
DTSTAMP:20260423T221623
CREATED:20170822T195624Z
LAST-MODIFIED:20170822T195624Z
UID:401-1508522400-1508536800@mykeywestportal.com
SUMMARY:Fantasy Fest Royal Coronation
DESCRIPTION:ROYAL CORONATION Presented by the Casa Marina\, A Waldorf Astoria Resort\nIt’s one final caucus with the candidates for King & Queen of Fantasy Fest! This fabulous 2-hour stage show includes entertainment by local celebrities and the candidates themselves\, hosted by J.B. McLendon! General admission is a suggested $10 donation at the door; VIP reserved tickets for $75 include a 3-course plated dinner (with a cash bar). For tickets go to ahi.ticketleap.com. or call 305-296-6196. This is a benefit for AIDS Help\, Inc. Casa Marina\, A Waldorf Astoria Resort\, 1500 Reynolds St.; 6 - 10 PM.
URL:https://mykeywestportal.com/event/fantasy-fest-royal-coronation/
LOCATION:Casa Marina\, 1500 Reynolds St\, Key West\, FL\, 33040\, United States
END:VEVENT
END:VCALENDAR