BEGIN:VCALENDAR
VERSION:2.0
PRODID:-//My Key West Portal is the Social Calendar for the Florida Keys and Key West - ECPv6.15.11//NONSGML v1.0//EN
CALSCALE:GREGORIAN
METHOD:PUBLISH
X-ORIGINAL-URL:https://mykeywestportal.com
X-WR-CALDESC:Events for My Key West Portal is the Social Calendar for the Florida Keys and Key West
REFRESH-INTERVAL;VALUE=DURATION:PT1H
X-Robots-Tag:noindex
X-PUBLISHED-TTL:PT1H
BEGIN:VTIMEZONE
TZID:UTC
BEGIN:STANDARD
TZOFFSETFROM:+0000
TZOFFSETTO:+0000
TZNAME:UTC
DTSTART:20160101T000000
END:STANDARD
END:VTIMEZONE
BEGIN:VEVENT
DTSTART;TZID=UTC:20171007T043000
DTEND;TZID=UTC:20171007T120000
DTSTAMP:20260423T235559
CREATED:20170821T200229Z
LAST-MODIFIED:20170821T200229Z
UID:361-1507350600-1507377600@mykeywestportal.com
SUMMARY:SOMO Marathon & Half Key West
DESCRIPTION:Imagine running through the southernmost island in the United States while enjoying a break from the ordinary.  The Southernmost Marathon & Half / Key West Running Festival promises just that- 26.2\, 13.1\, 6.2 or 3.1 miles of ocean and gulf views\, as well as iconic Key West landmarks. The Marathon Course is USATF certified. Join us this fall for Key West and the Florida Keys premier race- the Southernmost Marathon & Half presented by 361 Degrees. Come for the race and stay for a good time! All participants will receive an event t-shirt at packet pick up and finisher medal. \nSaturday\, October 7\, 2017 \n4:30am  12:00pm \n\n\n\n\n\n\nStart/Finish Line opes at 4:30am (Day of Packet Pick Up available\, bag drop available) \nMaraton Start   5:30am \nHalf Marathon Start   5:45am \nHalf Marathon Awards    9:45am \nMarathon Awards     10am \nFinish Line open until 12pm \n\nSunday\, October 8\, 2017 \n6:00am  11:00am \n\n\n\n\n\n\nSalute! on the Beach 10K & 5K \nPacket Pick Up   6:30am \n10K/5K Start    7:30am \nFinish Line Party    8am \nAwards    9:15am \n 
URL:https://mykeywestportal.com/event/somo-marathon-half-key-west/
LOCATION:FL
END:VEVENT
END:VCALENDAR