BEGIN:VCALENDAR
VERSION:2.0
PRODID:-//My Key West Portal is the Social Calendar for the Florida Keys and Key West - ECPv6.15.11//NONSGML v1.0//EN
CALSCALE:GREGORIAN
METHOD:PUBLISH
X-ORIGINAL-URL:https://mykeywestportal.com
X-WR-CALDESC:Events for My Key West Portal is the Social Calendar for the Florida Keys and Key West
REFRESH-INTERVAL;VALUE=DURATION:PT1H
X-Robots-Tag:noindex
X-PUBLISHED-TTL:PT1H
BEGIN:VTIMEZONE
TZID:UTC
BEGIN:STANDARD
TZOFFSETFROM:+0000
TZOFFSETTO:+0000
TZNAME:UTC
DTSTART:20160101T000000
END:STANDARD
END:VTIMEZONE
BEGIN:VEVENT
DTSTART;TZID=UTC:20170808T120000
DTEND;TZID=UTC:20170808T130000
DTSTAMP:20260423T221700
CREATED:20170731T185016Z
LAST-MODIFIED:20170731T185916Z
UID:130-1502193600-1502197200@mykeywestportal.com
SUMMARY:Key West Toastmasters Club Meeting
DESCRIPTION:Toastmasters is an internationally recognized organization\, specializing in communication and leadership developement. \nMeetings are the second and fourth Tuesday of each month and start on time at 12pm. Meetings are open for anyone who wishes to improve their leadership and communications skills. \nToastmasters Mission statement: \n"We empower individuals to become more effective communicators and leaders."
URL:https://mykeywestportal.com/event/key-west-toastmasters-club-meeting/
LOCATION:Keys Federal Credit Union\, 3022 N. Roosevelt (Key Plaza)\, Key West\, 33040\, United States
END:VEVENT
BEGIN:VEVENT
DTSTART;TZID=UTC:20171003T180000
DTEND;TZID=UTC:20171003T200000
DTSTAMP:20260423T221700
CREATED:20170815T205542Z
LAST-MODIFIED:20170815T205542Z
UID:300-1507053600-1507060800@mykeywestportal.com
SUMMARY:3rd Annual Hungry Games
DESCRIPTION:A contest of epic proportions\, where YOU choose your favorite dish and the winner of these Hungry Games. Key West High School Students team up with our local celebrity chefs for the tastiest event in town.
URL:https://mykeywestportal.com/event/3rd-annual-hungry-games/
LOCATION:Southernmost Beach Cafe\, 1405 Duval St\, Key West\, FL\, 33040\, United States
END:VEVENT
END:VCALENDAR