BEGIN:VCALENDAR
VERSION:2.0
PRODID:-//My Key West Portal is the Social Calendar for the Florida Keys and Key West - ECPv6.15.11//NONSGML v1.0//EN
CALSCALE:GREGORIAN
METHOD:PUBLISH
X-ORIGINAL-URL:https://mykeywestportal.com
X-WR-CALDESC:Events for My Key West Portal is the Social Calendar for the Florida Keys and Key West
REFRESH-INTERVAL;VALUE=DURATION:PT1H
X-Robots-Tag:noindex
X-PUBLISHED-TTL:PT1H
BEGIN:VTIMEZONE
TZID:UTC
BEGIN:STANDARD
TZOFFSETFROM:+0000
TZOFFSETTO:+0000
TZNAME:UTC
DTSTART:20160101T000000
END:STANDARD
END:VTIMEZONE
BEGIN:VEVENT
DTSTART;VALUE=DATE:20170922
DTEND;VALUE=DATE:20170925
DTSTAMP:20260423T235629
CREATED:20170818T220442Z
LAST-MODIFIED:20170818T220442Z
UID:345-1506052800-1506297599@mykeywestportal.com
SUMMARY:Take Stock in Children Backcountry Challenge
DESCRIPTION:For 18 years this annual tournament has offered anglers the opportunity to win coveted trophies for trout\, snook and redfish. A popular auction showcase and Sunday evening dinner are open to the public. Proceeds support local vocational scholarships for all ages\, and Take Stock in Children scholarships for financially challenged Upper Keys students. \nContact Dennis Caltagirone 305-331-0525 for more information.
URL:https://mykeywestportal.com/event/take-stock-in-children-backcountry-challenge/
LOCATION:FL
END:VEVENT
BEGIN:VEVENT
DTSTART;TZID=UTC:20170922T080000
DTEND;TZID=UTC:20170922T180000
DTSTAMP:20260423T235629
CREATED:20170815T202028Z
LAST-MODIFIED:20170815T202028Z
UID:294-1506067200-1506103200@mykeywestportal.com
SUMMARY:Books & Books Art Contest Submissions Due
DESCRIPTION:Local bookseller Books & Books @ the Studios of Key West is hosting an art contest\, and anyone can enter! They are  calling upon art enthusiasts to submit one piece of art inspired by their favorite book.  The winning piece will be displayed in Books & Books for one month\, and the winner will receive a $500 Books & Books Art Supply Gift card.   Contest details state\, ‘Inspiration comes in all forms so feel free to incorporate as much or as little reference to the book in your piece as you like.’ There is a $10 registration fee.  Visit the store from 10-6 or check out http://booksandbookskw.com/art-contest/for all the details.  Entrants can also register their submission online here:  http://booksandbookskw.com/sac-registration/. Finished artwork needs to be submitted by 6 pm on September 29th .
URL:https://mykeywestportal.com/event/books-books-art-contest-submissions-due/
LOCATION:Books & Books\, 533 Eaton Street\, Key West\, FL\, 33040\, United States
END:VEVENT
END:VCALENDAR