BEGIN:VCALENDAR
VERSION:2.0
PRODID:-//My Key West Portal is the Social Calendar for the Florida Keys and Key West - ECPv6.15.11//NONSGML v1.0//EN
CALSCALE:GREGORIAN
METHOD:PUBLISH
X-ORIGINAL-URL:https://mykeywestportal.com
X-WR-CALDESC:Events for My Key West Portal is the Social Calendar for the Florida Keys and Key West
REFRESH-INTERVAL;VALUE=DURATION:PT1H
X-Robots-Tag:noindex
X-PUBLISHED-TTL:PT1H
BEGIN:VTIMEZONE
TZID:UTC
BEGIN:STANDARD
TZOFFSETFROM:+0000
TZOFFSETTO:+0000
TZNAME:UTC
DTSTART:20160101T000000
END:STANDARD
END:VTIMEZONE
BEGIN:VEVENT
DTSTART;TZID=UTC:20170920T150000
DTEND;TZID=UTC:20170920T170000
DTSTAMP:20260423T235557
CREATED:20170817T215643Z
LAST-MODIFIED:20170817T215643Z
UID:325-1505919600-1505926800@mykeywestportal.com
SUMMARY:29th Annual "Showcase of Key West Businesses" Trade Show
DESCRIPTION:The Key West Chamber of Commerce offers you an opportunity to showcase your business during the Business Trade Show\, this year’s event will be held at the Key West Marriott Beachside Resort.  Last year as in previous years this highly successful show was sold out\, with more than 400 people attending making it a fun day for all.  This year’s trade show hours will be 3:00 p.m. to 5:00 p.m. with a ½ hour break at 5:00 p.m. to prepare for the members only Business After Hours sponsored by the Key West Marriott Beachside\, from 5:30 p.m. to 7:30 p.m.. \nWe encourage you to participate in this year’s trade show. As an exhibitor\, you will receive maximum exposure to attending members of the business community and residents of Key West and the lower keys as you display the products and information that your business offers. We encourage you to provide giveaways as an added attraction\, resulting in a greater marketing exposure for your business.    Booth Sizes Available:    Oversized Corner Booths\, Extended Wall Booths\, Standard Wall Booths and Center Room Booths.  More information and a registration form will be mailed to all members in the next few weeks. \nFor more information or to reserve your booth contact: \nKerry Baker: 305-294-2587 or email: membership@keywestchamber.org
URL:https://mykeywestportal.com/event/29th-annual-showcase-of-key-west-businesses-trade-show/
LOCATION:Key West Marriott Beachside\, Tavern N Town 3841 N Roosevelt Blvd\, Key West\, FL\, 33040\, United States
END:VEVENT
BEGIN:VEVENT
DTSTART;TZID=UTC:20170920T180000
DTEND;TZID=UTC:20170920T210000
DTSTAMP:20260423T235557
CREATED:20170817T212115Z
LAST-MODIFIED:20170817T212231Z
UID:314-1505930400-1505941200@mykeywestportal.com
SUMMARY:Free Movie: Best In Show @ the Key West Theater
DESCRIPTION:A colorful array of characters compete at a national dog show.\n\nDirector:\nChristopher Guest \n\n\nDoors open at 6pm\, show starts at 7pm.
URL:https://mykeywestportal.com/event/free-movie-best-in-show-the-key-west-theater/
LOCATION:Key West Theater\, 512 Eaton St\, Key West\, FL\, 33040\, United States
END:VEVENT
END:VCALENDAR