BEGIN:VCALENDAR
VERSION:2.0
PRODID:-//My Key West Portal is the Social Calendar for the Florida Keys and Key West - ECPv6.15.11//NONSGML v1.0//EN
CALSCALE:GREGORIAN
METHOD:PUBLISH
X-ORIGINAL-URL:https://mykeywestportal.com
X-WR-CALDESC:Events for My Key West Portal is the Social Calendar for the Florida Keys and Key West
REFRESH-INTERVAL;VALUE=DURATION:PT1H
X-Robots-Tag:noindex
X-PUBLISHED-TTL:PT1H
BEGIN:VTIMEZONE
TZID:UTC
BEGIN:STANDARD
TZOFFSETFROM:+0000
TZOFFSETTO:+0000
TZNAME:UTC
DTSTART:20160101T000000
END:STANDARD
END:VTIMEZONE
BEGIN:VEVENT
DTSTART;VALUE=DATE:20170906
DTEND;VALUE=DATE:20170911
DTSTAMP:20260423T235557
CREATED:20170817T214255Z
LAST-MODIFIED:20170817T214255Z
UID:322-1504670400-1505087999@mykeywestportal.com
SUMMARY:Womenfest Key West
DESCRIPTION:Thousands of singles\, couples and groups of women flock to Key West each year for this renowned celebration for lesbians and their friends. Activities generally include dance parties\, poolside gatherings\, sailing and snorkeling\, live music\, comedy performances and more.
URL:https://mykeywestportal.com/event/womenfest-key-west/
LOCATION:FL
END:VEVENT
BEGIN:VEVENT
DTSTART;VALUE=DATE:20170907
DTEND;VALUE=DATE:20170912
DTSTAMP:20260423T235557
CREATED:20170817T221441Z
LAST-MODIFIED:20170817T221441Z
UID:332-1504756800-1505174399@mykeywestportal.com
SUMMARY:LGBT Art & Culture Revolution
DESCRIPTION:Two Islands - One Week - Be a Part of History! Begin with an Art\, Wine & Dine Experience in Key West\, then be transported back in time to Cuba for the trip of a lifetime. \n\n\n\n\n\n\n\n\n\n\n\nDinner & Pool Parties\, Private Gallery\, Art Exhibitions\, Gallery\, Museum & Rum Distillery Tours \n\n\n\n\n\n\n\n\n\n\n\nContact Wendy DeLucca for more information: 954-699-6556
URL:https://mykeywestportal.com/event/lgbt-art-culture-revolution/
LOCATION:FL
END:VEVENT
END:VCALENDAR