BEGIN:VCALENDAR
VERSION:2.0
PRODID:-//My Key West Portal is the Social Calendar for the Florida Keys and Key West - ECPv6.15.11//NONSGML v1.0//EN
CALSCALE:GREGORIAN
METHOD:PUBLISH
X-WR-CALNAME:My Key West Portal is the Social Calendar for the Florida Keys and Key West
X-ORIGINAL-URL:https://mykeywestportal.com
X-WR-CALDESC:Events for My Key West Portal is the Social Calendar for the Florida Keys and Key West
REFRESH-INTERVAL;VALUE=DURATION:PT1H
X-Robots-Tag:noindex
X-PUBLISHED-TTL:PT1H
BEGIN:VTIMEZONE
TZID:UTC
BEGIN:STANDARD
TZOFFSETFROM:+0000
TZOFFSETTO:+0000
TZNAME:UTC
DTSTART:20160101T000000
END:STANDARD
END:VTIMEZONE
BEGIN:VEVENT
DTSTART;VALUE=DATE:20170901
DTEND;VALUE=DATE:20170904
DTSTAMP:20260423T235520
CREATED:20170817T213626Z
LAST-MODIFIED:20170817T213626Z
UID:318-1504238400-1504483199@mykeywestportal.com
SUMMARY:Heroes Salute Tribute Weekend
DESCRIPTION:Each fall\, Hawks Cay Resort on Duck Key hosts an annual Heroes Salute program to honor military\, fire and rescue\, law enforcement and medical personnel; a special Labor Day Weekend event is planned to include an All-American barbecue\, heroes tribute\, country music concert and fireworks show.
URL:https://mykeywestportal.com/event/heroes-salute-tribute-weekend/
LOCATION:Hawks Cay Resort\, 61 Hawks Cay Blvd\, Duck Key\, FL\, 33050\, United States
END:VEVENT
BEGIN:VEVENT
DTSTART;VALUE=DATE:20170903
DTEND;VALUE=DATE:20170904
DTSTAMP:20260423T235520
CREATED:20170801T200228Z
LAST-MODIFIED:20170801T200228Z
UID:223-1504411200-1504483199@mykeywestportal.com
SUMMARY:8th Annual Key West BrewFest
DESCRIPTION:Because the last 7 BrewFest’s have been so much fun and such a success\, we’re doing it again!  Join us\, in Key West over Labor Day weekend\, August 31 – September 4\, 2017. The Southernmost Beach Resort has teamed up with the Key West Sunrise Rotary of the Conch Republic to host Key West BrewFest.  All proceeds to benefit the Rotary Club and their charitable efforts.  Events from beer dinners\, beer brunches\, happy hour parties\, pool parties\, late-night parties\, seminars and the Signature Tasting Festival Event are some of the great activities we have on tap for you! And\, try tasting close to 200 beers in one weekend! \nSchedule of Events: \n12pm – 5pm: Pool party sponsored by Tampa Bay Brewing at The Perry Hotel located at 7001 Shrimp Road\, Stock Island\n1pm – 5pm: Pool Beer Pong Party Tour\, sponsored by Bud Light at Keys Collection Hotels. Grab your passport at The Barefoot Bar and Grill at The Fairfield Inn and Suites\, along with a $5 Bud Light and get your first stamp. Proceed to the Salty Lime at the Hilton Garden Inn and purchase your 2nd Bud Light for $5 and receive your second stamp. Make your way over to Rum Row at the Gates Hotel for another $5 Bud Light and receive your third stamp. Then it’s on to The Toasted Coconut at 24 North Hotel where $10 gets you your final stamp and a wristband to play. Live DJ with party favors provided by Bud Light.\n1pm- 4pm:  Kona Pool Party at The Marker Waterfront Resort \, at 200 William Street\, featuring tunes by DJ Jimmy and a pig roast\n7pm: Funky Budda Beer Dinner at the Southernmost Beach Cafe located at 1405 Duval Street. $69/per person plus tax
URL:https://mykeywestportal.com/event/8th-annual-key-west-brewfest-4/
LOCATION:FL
END:VEVENT
END:VCALENDAR