BEGIN:VCALENDAR
VERSION:2.0
PRODID:-//My Key West Portal is the Social Calendar for the Florida Keys and Key West - ECPv6.15.11//NONSGML v1.0//EN
CALSCALE:GREGORIAN
METHOD:PUBLISH
X-WR-CALNAME:My Key West Portal is the Social Calendar for the Florida Keys and Key West
X-ORIGINAL-URL:https://mykeywestportal.com
X-WR-CALDESC:Events for My Key West Portal is the Social Calendar for the Florida Keys and Key West
REFRESH-INTERVAL;VALUE=DURATION:PT1H
X-Robots-Tag:noindex
X-PUBLISHED-TTL:PT1H
BEGIN:VTIMEZONE
TZID:UTC
BEGIN:STANDARD
TZOFFSETFROM:+0000
TZOFFSETTO:+0000
TZNAME:UTC
DTSTART:20160101T000000
END:STANDARD
END:VTIMEZONE
BEGIN:VEVENT
DTSTART;VALUE=DATE:20170831
DTEND;VALUE=DATE:20170901
DTSTAMP:20260423T235422
CREATED:20170801T195551Z
LAST-MODIFIED:20170801T195551Z
UID:216-1504152000-1504223999@mykeywestportal.com
SUMMARY:8th Annual Key West BrewFest
DESCRIPTION:Because the last 7 BrewFest’s have been so much fun and such a success\, we’re doing it again!  Join us\, in Key West over Labor Day weekend\, August 31 – September 4\, 2017. The Southernmost Beach Resort has teamed up with the Key West Sunrise Rotary of the Conch Republic to host Key West BrewFest.  All proceeds to benefit the Rotary Club and their charitable efforts.  Events from beer dinners\, beer brunches\, happy hour parties\, pool parties\, late-night parties\, seminars and the Signature Tasting Festival Event are some of the great activities we have on tap for you! And\, try tasting close to 200 beers in one weekend! \nSchedule of Events: \n4pm – 7pm – Happy Hour at The Perry Hotel located at 7001 Shrimp Road\, Stock Island –  sponsored by Stiegal\n5pm –  Opening Kick-off party at Waterfront Brewery. Enjoy Key West specialty draft beers\, great food\, and fun.  Located at 201 William Street.\n5:30pm – 9pm: Shipyard Brewery Tap Invasion at the Green Parrot Bar\n7pm: Dog Fish Head Beer Dinner at Bagatelle located at 115 Duval Street $99 per person plus tax and gratuity. Call 305.296.6609 to reserve your seat today
URL:https://mykeywestportal.com/event/8th-annual-key-west-brewfest/
LOCATION:FL
END:VEVENT
BEGIN:VEVENT
DTSTART;VALUE=DATE:20170831
DTEND;VALUE=DATE:20170901
DTSTAMP:20260423T235422
CREATED:20170822T214616Z
LAST-MODIFIED:20170822T214616Z
UID:490-1504152000-1504223999@mykeywestportal.com
SUMMARY:Care Free Key West: Free Bus Service Begins!
DESCRIPTION:Service starts August 31st! \nWelcome to the best way to get around the heart of Key West. The Duval Loop is a bus route that runs from the Gulf to the Atlantic adjacent to Key West’s world-famous main street lined with shops\, bars\, restaurants\, and all sorts of quirky stuff. Hop off when you’re ready to go exploring. Hop back on when you’re ready to continue the adventure. Our favorite form of public transportation is totally free and there are stops along the route from which you can launch your Key West adventure. Whether it’s a night of partying or a day filled with shopping and sightseeing\, the Duval Loop is the answer.
URL:https://mykeywestportal.com/event/care-free-key-west-free-bus-service-begins/
LOCATION:FL
END:VEVENT
END:VCALENDAR