BEGIN:VCALENDAR
VERSION:2.0
PRODID:-//My Key West Portal is the Social Calendar for the Florida Keys and Key West - ECPv6.15.11//NONSGML v1.0//EN
CALSCALE:GREGORIAN
METHOD:PUBLISH
X-ORIGINAL-URL:https://mykeywestportal.com
X-WR-CALDESC:Events for My Key West Portal is the Social Calendar for the Florida Keys and Key West
REFRESH-INTERVAL;VALUE=DURATION:PT1H
X-Robots-Tag:noindex
X-PUBLISHED-TTL:PT1H
BEGIN:VTIMEZONE
TZID:UTC
BEGIN:STANDARD
TZOFFSETFROM:+0000
TZOFFSETTO:+0000
TZNAME:UTC
DTSTART:20160101T000000
END:STANDARD
END:VTIMEZONE
BEGIN:VEVENT
DTSTART;VALUE=DATE:20170819
DTEND;VALUE=DATE:20170820
DTSTAMP:20260424T033258
CREATED:20170803T184557Z
LAST-MODIFIED:20170803T184557Z
UID:262-1503115200-1503187199@mykeywestportal.com
SUMMARY:Inaugural Islamorada Grand Prix of the Sea
DESCRIPTION:Don’t miss as Powerboat P1 brings AquaX and Superstock races to Islamorada! Experience non-stop racing action as Sea-Doo\, Yamaha\, and Kawasaki personal watercraft racers\, along with P1 Panther race boats\, compete at speeds averaging 75 mph. This event is family friendly and free to the public.
URL:https://mykeywestportal.com/event/inaugural-islamorada-grand-prix-of-the-sea/
LOCATION:FL
END:VEVENT
BEGIN:VEVENT
DTSTART;TZID=UTC:20170816T170000
DTEND;TZID=UTC:20170816T233000
DTSTAMP:20260424T033258
CREATED:20170803T190529Z
LAST-MODIFIED:20170817T204825Z
UID:266-1502902800-1502926200@mykeywestportal.com
SUMMARY:Tropical Heat Key West
DESCRIPTION:TROPICAL HEAT is Key West’s HOTTEST event for men! The temperature is not the only thing that will rise during Tropical Heat. The all-male theme parties\, pool parties\, and adult-oriented entertainment promises to be HOT! August on the Island is always HOT\, but during Tropical Heat it promises to be STEAMY! Four days of hot guys and fun\, the best way to experience Key West. \nWednesday August 16th \n5pm-7pm THE Official Tropical Heat Kick-Off Party • Island House\, 1129 Fleming St • islandhousekeywest.com \n10pm 80 NEON Party  • Mangoes\, 700 Duval Street • mangoeskeywest.com \n  \nThursday August 17th \n10:30am Naked Paddle Boarding Adventure • Nomadic SUP • nomadicsup.com \n11am Snorkel & Sandbar Cruise • Blu Q • bluqkeywest.com \n12pm Bare or Underwear Pool Party • Equator Resort\, 818 Fleming • equatorresort.com \n4pm Tennessee Williams Exhibit Curator Tour \n7pm TOP GUN Party • Kelly’s Caribbean Bar\, Grill & Brewery 301 Whitehead St. • kellyskeywest.com \n9pm-4am Glow Party • sidebarkeywest.com \n10pm FOREPLAY Party • Saloon One\, 801 Duval St (in the REAR!) • 801bourbon.com \n  \nFriday August 18th \n10:30am Naked Paddle Boarding Adventure• Nomadic SUP • nomadicsup.com \n11am Snorkel & Sandbar Cruise • Blu Q • bluqkeywest.com \n12 noon SPLASH! Pool Party • Bourbon Street Pub\, 724 Duval St • bourbonstpub.com \n7pm-10pm Traffic Light Party• Alexander’s Guesthouse\, 1118 Fleming Street • alexanderskeywest.com \n4pm Traveling Triangle Happy Hour \n9 & 11pm Aquanette’s ‘Reality is a Drag’ • aquakeywest.com \n10pm Hotter Than Hell! Fetish Party• Saloon One\, 801 Duval St (in the REAR!) • 801bourbon.com \n  \nSaturday August 19th \n10:30am Naked Paddle Boarding Adventure• Nomadic SUP • nomadicsup.com \n11am Snorkel & Sandbar Cruise • Blu Q • bluqkeywest.com \n12pm Tropical Heat SKINNY Dip Party• Island House\,1129 Fleming St • islandhousekeywest.com \n4pm GAY Key West Trolley Tour • Meet Trolley @ Corner of Duval & Angela • trolleytours.com \n7pm The 12th Annual Tropical Heat Toga Party • Equator Resort\, 818 Fleming St • equatorresort.com \n9pm – 4am Toga Party Continuation• sidebarkeywest.com \n10pm The Big “O” Exhibition • 724 Duval • bourbonstpub.com \n  \nSunday August 20th \n10:30am Naked Paddle Boarding Adventure • Nomadic SUP • nomadicsup.com \n11 am Sandbar Sunday Excursion • BluQ • bluqkeywest.com \n12 Noon-5pm Hot Naked Sunday Pool Party • Island House\, 1129 Fleming St • islandhousekeywest.com \n4pm Key West’s Traditional Tea Dance• La Te Da\, 1125 Duval St • lateda.com \n7pm 3-D Party• equatorresort.com \n10pm The Afterglow • Saloon One\, 801 Duval St (in the REAR!) • 801bourbon.com
URL:https://mykeywestportal.com/event/topical-heat-key-west/
LOCATION:FL
END:VEVENT
END:VCALENDAR