BEGIN:VCALENDAR
VERSION:2.0
PRODID:-//My Key West Portal is the Social Calendar for the Florida Keys and Key West - ECPv6.15.11//NONSGML v1.0//EN
CALSCALE:GREGORIAN
METHOD:PUBLISH
X-WR-CALNAME:My Key West Portal is the Social Calendar for the Florida Keys and Key West
X-ORIGINAL-URL:https://mykeywestportal.com
X-WR-CALDESC:Events for My Key West Portal is the Social Calendar for the Florida Keys and Key West
REFRESH-INTERVAL;VALUE=DURATION:PT1H
X-Robots-Tag:noindex
X-PUBLISHED-TTL:PT1H
BEGIN:VTIMEZONE
TZID:UTC
BEGIN:STANDARD
TZOFFSETFROM:+0000
TZOFFSETTO:+0000
TZNAME:UTC
DTSTART:20160101T000000
END:STANDARD
END:VTIMEZONE
BEGIN:VEVENT
DTSTART;TZID=UTC:20170808T100000
DTEND;TZID=UTC:20170808T120000
DTSTAMP:20260424T015226
CREATED:20170718T212956Z
LAST-MODIFIED:20170807T164034Z
UID:114-1502186400-1502193600@mykeywestportal.com
SUMMARY:$1 Kids Movie: Storks
DESCRIPTION:Runtime: 1hr 29m\n\n\nSynopsis\nStorks deliver babies... or at least they used to. Now they deliver packages for global internet giant Cornerstore.com. Junior\, the company's top delivery stork\, is about to be promoted when he accidentally activates the Baby Making Machine\, producing an adorable and wholly unauthorized baby girl. Desperate to deliver this bundle of trouble before the boss gets wise\, Junior and his friend Tulip\, the only human on Stork Mountain\, race to make their first-ever baby drop - in a wild and revealing journey that could make more than one family whole and restore the storks' true mission in the world.
URL:https://mykeywestportal.com/event/1-kids-movie-storks/
LOCATION:FL
END:VEVENT
BEGIN:VEVENT
DTSTART;TZID=UTC:20170808T100000
DTEND;TZID=UTC:20170808T120000
DTSTAMP:20260424T015226
CREATED:20170718T213916Z
LAST-MODIFIED:20170718T213916Z
UID:122-1502186400-1502193600@mykeywestportal.com
SUMMARY:$1 Kids Movie: The Lego Batman Movie
DESCRIPTION:Runtime: 1hr 44m\n\n\nSynopsis\nIn the irreverent spirit of fun that made "The LEGO® Movie" a worldwide phenomenon\, the self-described leading man of that ensemble - LEGO Batman - stars in his own big-screen adventure. But there are big changes brewing in Gotham\, and if he wants to save the city from The Joker's hostile takeover\, Batman may have to drop the lone vigilante thing\, try to work with others and maybe\, just maybe\, learn to lighten up.
URL:https://mykeywestportal.com/event/1-kids-movie-the-lego-batman-movie/
LOCATION:FL
END:VEVENT
BEGIN:VEVENT
DTSTART;TZID=UTC:20170812T103000
DTEND;TZID=UTC:20170812T120000
DTSTAMP:20260424T015226
CREATED:20170801T191119Z
LAST-MODIFIED:20170801T191119Z
UID:206-1502533800-1502539200@mykeywestportal.com
SUMMARY:Tropic Kids Club $1: The Secret Life of Pets
DESCRIPTION:Saturday August 12th at Tropic Cinema doors open at 10:00am. Movies start at 10:30am\nKids 12 and under $1\, Grownups pay $2. \n \nThe Secret Life of Pets \nAction & Adventure · 2016 · PG\nFind out what your pets do when you're not at home in this animated comedy featuring the voice talents of Louis C.K.\, Eric Stonestreet\, and Kevin Hart.
URL:https://mykeywestportal.com/event/tropic-kids-club-1-the-secret-life-of-pets/
LOCATION:Tropic Cinema\, 416 Eaton Street\, Key West\, FL\, 33040\, United States
END:VEVENT
BEGIN:VEVENT
DTSTART;TZID=UTC:20170812T130000
DTEND;TZID=UTC:20170812T170000
DTSTAMP:20260424T015226
CREATED:20170801T212411Z
LAST-MODIFIED:20170801T212411Z
UID:240-1502542800-1502557200@mykeywestportal.com
SUMMARY:The History of Diving Museum-Vintage Weekend Wonders
DESCRIPTION:
URL:https://mykeywestportal.com/event/the-history-of-diving-museum-vintage-weekend-wonders/
LOCATION:Lookout Lodge\, 87770 Overseas Hwy\, Islamorada\, FL\, 33036\, United States
END:VEVENT
BEGIN:VEVENT
DTSTART;TZID=UTC:20170810T170000
DTEND;TZID=UTC:20170810T200000
DTSTAMP:20260424T015226
CREATED:20170803T183501Z
LAST-MODIFIED:20170803T183501Z
UID:256-1502384400-1502395200@mykeywestportal.com
SUMMARY:21st Annual Key West Lobsterfest: A Crustacean Celebration!
DESCRIPTION:Schedule of events:\nThursday August 10\,  5pm - 8pm\nLobster Boil at the Sunset Tiki Bar & Grille 617 Front St.\nFriday August 11th\,  1pm/8:30pm\nReef & Ritas  3 Hour Catamaran sail and snorkel trip sponsored by Margarita Life.\nDuval Crawl Just $20 for the t-shirt\, lanyard & drink Specials \nSaturday August 12th\,  Noon - 11pm\nStreet Fair - Art\, crafts\, merchandise and of course\, lots of lobster!\nFree Concert intersection of Duval St. and Greene ST \nSunday August 13th\,  11am-2pM\nLobster Brunch - Enjoy a sumptuous Lobster brunch at the smokin tuna saloon
URL:https://mykeywestportal.com/event/21st-annual-key-west-lobsterfest-a-crustacean-celebration/
LOCATION:FL
END:VEVENT
BEGIN:VEVENT
DTSTART;TZID=UTC:20170810T170000
DTEND;TZID=UTC:20170810T200000
DTSTAMP:20260424T015226
CREATED:20170803T183501Z
LAST-MODIFIED:20170803T183501Z
UID:256-1502384400-1502395200@mykeywestportal.com
SUMMARY:21st Annual Key West Lobsterfest: A Crustacean Celebration!
DESCRIPTION:Schedule of events:\nThursday August 10\,  5pm - 8pm\nLobster Boil at the Sunset Tiki Bar & Grille 617 Front St.\nFriday August 11th\,  1pm/8:30pm\nReef & Ritas  3 Hour Catamaran sail and snorkel trip sponsored by Margarita Life.\nDuval Crawl Just $20 for the t-shirt\, lanyard & drink Specials \nSaturday August 12th\,  Noon - 11pm\nStreet Fair - Art\, crafts\, merchandise and of course\, lots of lobster!\nFree Concert intersection of Duval St. and Greene ST \nSunday August 13th\,  11am-2pM\nLobster Brunch - Enjoy a sumptuous Lobster brunch at the smokin tuna saloon
URL:https://mykeywestportal.com/event/21st-annual-key-west-lobsterfest-a-crustacean-celebration/
LOCATION:FL
END:VEVENT
END:VCALENDAR